BEGIN:VCALENDAR
VERSION:2.0
PRODID:icalendar-ruby
CALSCALE:GREGORIAN
METHOD:PUBLISH
BEGIN:VEVENT
DTSTAMP:20260421T100952Z
UID:196-799282@loganstreetbaptist.org
DTSTART:20260502T150000Z
DTEND:20260502T173000Z
CLASS:PUBLIC
CREATED:20260420T161721
DESCRIPTION:IF: Gathering \nJoin us for lunch\, worship\, fellowship\, and 
 dynamic teaching.\n$10 \nSign up online or at the Welcome Center by Sunday
 \, April 26
LAST-MODIFIED:20260420T161721
LOCATION:Worship Center
SUMMARY:Women's Luncheon
URL;VALUE=URI:https://loganstreetbaptist.com/events/womens-luncheon/2026-05
 -02
ATTACH;FILENAME=share-facebook.jpg;FMTTYPE=image/jpeg:https://dq5pwpg1q8ru0
 .cloudfront.net/2026/04/06/20/16/29/e5bcfe1e-360c-4cf4-93f5-1d795e98089e/s
 hare-facebook.jpg
END:VEVENT
END:VCALENDAR
